BEGIN:VCALENDAR
PRODID:-//event//iCal4j 1.0//EN
CALSCALE:GREGORIAN
BEGIN:VEVENT
DTSTAMP:20260423T003032Z
DTSTART:20260223T160000Z
DTEND:20260223T173000Z
SUMMARY:cms-work-4-illinois-recruitment-workshop
LOCATION:
END:VEVENT
END:VCALENDAR
