BEGIN:VCALENDAR
PRODID:-//event//iCal4j 1.0//EN
CALSCALE:GREGORIAN
BEGIN:VEVENT
DTSTAMP:20260420T233244Z
DTSTART:20260423T150000Z
DTEND:20260423T190000Z
SUMMARY:cr---spring-2026-career---internship-fair
LOCATION:
END:VEVENT
END:VCALENDAR
