BEGIN:VCALENDAR
PRODID:-//event//iCal4j 1.0//EN
CALSCALE:GREGORIAN
BEGIN:VEVENT
DTSTAMP:20260425T032349Z
DTSTART:20260218T170000Z
DTEND:20260218T190000Z
SUMMARY:cr--workforce-wednesday
LOCATION:
END:VEVENT
END:VCALENDAR
