BEGIN:VCALENDAR
PRODID:-//event//iCal4j 1.0//EN
CALSCALE:GREGORIAN
BEGIN:VEVENT
DTSTAMP:20260422T082604Z
DTSTART:20260311T140000Z
DTEND:20260311T170000Z
SUMMARY:ides-hiring-event
LOCATION:
END:VEVENT
END:VCALENDAR
