BEGIN:VCALENDAR
PRODID:-//event//iCal4j 1.0//EN
CALSCALE:GREGORIAN
BEGIN:VEVENT
DTSTAMP:20260424T223436Z
DTSTART:20260428T150000Z
DTEND:20260428T170000Z
SUMMARY:inside-the-illinois-hiring-process
LOCATION:
END:VEVENT
END:VCALENDAR
