BEGIN:VCALENDAR
PRODID:-//event//iCal4j 1.0//EN
CALSCALE:GREGORIAN
BEGIN:VEVENT
DTSTAMP:20260424T092835Z
DTSTART:20260319T150000Z
DTEND:20260319T170000Z
SUMMARY:inside-the-university-illinois-hiring-process
LOCATION:
END:VEVENT
END:VCALENDAR
