BEGIN:VCALENDAR
PRODID:-//event//iCal4j 1.0//EN
CALSCALE:GREGORIAN
BEGIN:VEVENT
DTSTAMP:20260421T014922Z
DTSTART:20260429T160000Z
DTEND:20260429T180000Z
SUMMARY:kankakee---career-pathways---apprenticeships-workshop-04-29-26
LOCATION:
END:VEVENT
END:VCALENDAR
