BEGIN:VCALENDAR
PRODID:-//event//iCal4j 1.0//EN
CALSCALE:GREGORIAN
BEGIN:VEVENT
DTSTAMP:20260422T103714Z
DTSTART:20260304T170000Z
DTEND:20260304T190000Z
SUMMARY:kankakee---who-s-hiring-workshop
LOCATION:
END:VEVENT
END:VCALENDAR
