BEGIN:VCALENDAR
PRODID:-//event//iCal4j 1.0//EN
CALSCALE:GREGORIAN
BEGIN:VEVENT
DTSTAMP:20260421T033128Z
DTSTART:20260424T150000Z
DTEND:20260424T180000Z
SUMMARY:northwest-side-job-fair0
LOCATION:
END:VEVENT
END:VCALENDAR
