BEGIN:VCALENDAR
PRODID:-//event//iCal4j 1.0//EN
CALSCALE:GREGORIAN
BEGIN:VEVENT
DTSTAMP:20260423T122621Z
DTSTART:20260409T190000Z
DTEND:20260409T210000Z
SUMMARY:nw42---job-seeker-workshop---quincy2
LOCATION:
END:VEVENT
END:VCALENDAR
