BEGIN:VCALENDAR
PRODID:-//event//iCal4j 1.0//EN
CALSCALE:GREGORIAN
BEGIN:VEVENT
DTSTAMP:20260424T223435Z
DTSTART:20260428T160000Z
DTEND:20260428T170000Z
SUMMARY:nw42---soft-skills-training---quincy4
LOCATION:
END:VEVENT
END:VCALENDAR
