BEGIN:VCALENDAR
PRODID:-//event//iCal4j 1.0//EN
CALSCALE:GREGORIAN
BEGIN:VEVENT
DTSTAMP:20260422T215029Z
DTSTART:20260219T170000Z
DTEND:20260219T180000Z
SUMMARY:solo44-applicant-tracking-systems--ats----virtual-workshop
LOCATION:
END:VEVENT
END:VCALENDAR
