BEGIN:VCALENDAR
PRODID:-//event//iCal4j 1.0//EN
CALSCALE:GREGORIAN
BEGIN:VEVENT
DTSTAMP:20260423T135656Z
DTSTART:20260319T160000Z
DTEND:20260319T170000Z
SUMMARY:solo44-applicant-tracking-systems--ats----virtual-workshop0
LOCATION:
END:VEVENT
END:VCALENDAR
