BEGIN:VCALENDAR
PRODID:-//event//iCal4j 1.0//EN
CALSCALE:GREGORIAN
BEGIN:VEVENT
DTSTAMP:20260421T033832Z
DTSTART:20260430T193000Z
DTEND:20260430T203000Z
SUMMARY:solo44-chat-gpt-effingham---virtual-workshop
LOCATION:
END:VEVENT
END:VCALENDAR
