BEGIN:VCALENDAR
PRODID:-//event//iCal4j 1.0//EN
CALSCALE:GREGORIAN
BEGIN:VEVENT
DTSTAMP:20260424T074643Z
DTSTART:20260422T150000Z
DTEND:20260422T160000Z
SUMMARY:sr-belleville-interviewing-workshop
LOCATION:
END:VEVENT
END:VCALENDAR
