BEGIN:VCALENDAR
PRODID:-//event//iCal4j 1.0//EN
CALSCALE:GREGORIAN
BEGIN:VEVENT
DTSTAMP:20260421T014922Z
DTSTART:20260428T160000Z
DTEND:20260428T170000Z
SUMMARY:sr-wood-river-applicant-tracking-system-workshop0
LOCATION:
END:VEVENT
END:VCALENDAR
