BEGIN:VCALENDAR
PRODID:-//event//iCal4j 1.0//EN
CALSCALE:GREGORIAN
BEGIN:VEVENT
DTSTAMP:20260423T165231Z
DTSTART:20260324T160000Z
DTEND:20260324T170000Z
SUMMARY:sr-wood-river-resume-development-workshop
LOCATION:
END:VEVENT
END:VCALENDAR
