BEGIN:VCALENDAR
PRODID:-//event//iCal4j 1.0//EN
CALSCALE:GREGORIAN
BEGIN:VEVENT
DTSTAMP:20260421T065743Z
DTSTART:20260213T160000Z
DTEND:20260213T180000Z
SUMMARY:sr39-decatur---day---zimmermann-r-e--2-13-26
LOCATION:
END:VEVENT
END:VCALENDAR
