BEGIN:VCALENDAR
PRODID:-//event//iCal4j 1.0//EN
CALSCALE:GREGORIAN
BEGIN:VEVENT
DTSTAMP:20260426T042539Z
DTSTART:20260416T143000Z
DTEND:20260416T153000Z
SUMMARY:sr39-rivian-application-information-session-4-16-26
LOCATION:
END:VEVENT
END:VCALENDAR
