BEGIN:VCALENDAR
PRODID:-//event//iCal4j 1.0//EN
CALSCALE:GREGORIAN
BEGIN:VEVENT
DTSTAMP:20260423T003033Z
DTSTART:20260319T150000Z
DTEND:20260319T160000Z
SUMMARY:sr41-springfield-virtual-resume-development-workshop
LOCATION:
END:VEVENT
END:VCALENDAR
