BEGIN:VCALENDAR
PRODID:-//event//iCal4j 1.0//EN
CALSCALE:GREGORIAN
BEGIN:VEVENT
DTSTAMP:20260423T190839Z
DTSTART:20260326T150000Z
DTEND:20260326T160000Z
SUMMARY:sr51---building-an-effective-resume---a-virtual-workshop0
LOCATION:
END:VEVENT
END:VCALENDAR
